BEGIN:VCALENDAR
VERSION:2.0
METHOD:PUBLISH
BEGIN:VEVENT
UID:WILD_APRICOT_EVENT_3230477_SESSION_1
DTSTART:20190328T070000Z
DTEND:20190328T100000Z
SUMMARY:Autumn Networking Drinks
LOCATION:The Morrison Bar & Oyster Room\, 225 George Street. The Rocks
DESCRIPTION:https://irsnsw.org.au/event-3230477\n\n\n\n  \n\n\n  \n\n\n  \nCome Join us!\n  \n\n\n  \nThis the first members drinks night for the year\n  Members are invited for free drinks\, nibbles and networking.\n  Guests and non members can purchase drinks at Happy Hour prices.\n  \n\n
DTSTAMP:20260424T171022Z
END:VEVENT
END:VCALENDAR
