BEGIN:VCALENDAR
VERSION:2.0
METHOD:PUBLISH
BEGIN:VEVENT
UID:WILD_APRICOT_EVENT_3155502_SESSION_1
DTSTART:20190307T213000Z
DTEND:20190308T070000Z
SUMMARY:irsnsw - Practitioners Professional Development Day
LOCATION:Level 31\, 1 O’Connell Street Sydney at the office of K & L Gates Lawyers.
DESCRIPTION:https://irsnsw.org.au/event-3155502\n\n\nJoin your colleagues in a full day session\n  \nto catch up on the latest developments\n  \nin Industrial Relations.\n  \n\n  “Whistle-blower Legislation” - Justin Le Blond – Partner Kennedys Lawyers\n  \n\n  \n\n  \n  \n\n  \n\n  Workplace Investigations - Hints and Tips – Aimee Saaib – O’Connell Workplace Relations\n  \n\n  \n\n  \n  \n\n  Unfair Dismissals Developments– Joe Murphy – Australian Business Lawyers\n  \n\n  \n  \n\n  \n\n  Discrimination – Emerging Issues - Luis Izzo – Australian Business Lawyers\n  \n\n  \n  \n\n  \n\n  Preparing for appearances before the Tribunals – Commissioner Janine Webster – NSW Industrial Relations Commission\n  \n\n  \n  \n\n  \n\n  Current issues in enterprise bargaining  - Matthew Robinson – FCB Lawyers\n  \n\n  \n  \n\n  \n\n  Industrial Action  - Michelle Wicks – Leader Workplace Relations - Lion Pty Ltd\n\n  \n\n\n  \n  \n\n  \n\n  Supply Chain Responsibilities – Adam Guy – Barrister – HB Higgins Chambers\n  \n\n  \n\n  \n\n  \n\n  \n\n\n  \nAdverse Action Developments - Anthony Powter – Australian Industries Group\n  \n\n\n  \n\n\n  \n\n\n  \n\n\n  \nRegistration Commences at 8.30am\n  \nPresentations start at 9am\n  \nNetworking opportunities and drinks at the end of the day\n\n
DTSTAMP:20260424T164407Z
END:VEVENT
END:VCALENDAR
